BEGIN:VCALENDAR
BEGIN:VEVENT
CLASS:PUBLIC
CREATED:20260422T125233
DESCRIPTION:이 웨비나에는 특수 교육 평가 과정 가운데 학부모 및 학군 참여에 대해 살펴보는 시간을 갖도록 하겠습니다. 웨비나 참석자들은 특수 교육과 의뢰 및 평가 과정을 관장하는 연방법에 대해 배우게 될 것 입니다.

이 워크샵은 줌으로 진행 될 것입니다. 등록후에, 줌 미팅 참여 할 수 있 초대 장을 받으실 것 입니다.
DTEND:20230417T200000
DTSTAMP:20260422T125233
DTSTART:20230417T180000
LAST-MODIFIED:20091109T101015Z
LOCATION:(ONLINE), , , , 
SUMMARY;LANGUAGE=en-us:평가 과정 WEBINAR
BEGIN:VALARM
TRIGGER:-PT1440M
ACTION:DISPLAY
DESCRIPTION:Reminder
END:VALARM
END:VEVENT
END:VCALENDAR
