BEGIN:VCALENDAR
BEGIN:VEVENT
CLASS:PUBLIC
CREATED:20260422T125944
DESCRIPTION:Pathways to College for Students with Learning Differences
April 27, 2023 6:30 PM to 7:45 PM

Are you the parent of a young adult with a learning difference who is just entering high school, or already in a post-high school program, and interested in continuing their education at a community and/or four-year college? Are you aware that an accommodated and/or modified curriculum can affect their admission?
Please join Sheila Reilly, Head of School, Star Academy, Stormy Miller Sabia, Director of Student Accessibility Services at College of Marin, and Vanessa Brown, Assistant Director of School and Transition Coordinator at Bayhill High School as they discuss how your student and their team can plan a course of study with college admission in mind.

This is a Connections California event. Connections California, a project of Parents Helping Parents – Silicon Valley, is made possible thanks to generous support from Santa Clara Family Health Plan.

Live Spanish interpretation available:

Caminos a la universidad para estudiantes con diferencias de aprendizaje
abril 27, 2023 6:30 PM to 7:45 PM

¿Es usted el padre de un adulto joven con una diferencia de aprendizaje que recién ingresa a la escuela secundaria, o ya está en un programa posterior a la escuela secundaria, y está interesado en continuar su educación en una universidad comunitaria o de cuatro años? ¿Es consciente de que un currículo acomodado y/o modificado puede afectar su admisión?

Únase a Sheila Reilly, Directora de la escuela, Star Academy, Stormy Miller Sabia, Directora de Servicios de Accesibilidad para Estudiantes en College of Marin, y Vanessa Brown, Subdirectora de Escuela y Coordinadora de Transición en Bayhill High School mientras discuten cómo su estudiante y su equipo puede planificar un curso de estudio con la admisión a la universidad en mente.

Esta presentación será traducida simultáneamente al Español.

Este es un evento de Connections California. Connections California, un proyecto de Parents Helping Parents – Silicon Valley, es posible gracias al generoso apoyo de Santa Clara Family Health Plan.

DTEND:20230427T194500
DTSTAMP:20260422T125944
DTSTART:20230427T183000
LAST-MODIFIED:20091109T101015Z
LOCATION:(ONLINE) , , , , 
SUMMARY;LANGUAGE=en-us:Connections California (in Partnership with PHP)
BEGIN:VALARM
TRIGGER:-PT1440M
ACTION:DISPLAY
DESCRIPTION:Reminder
END:VALARM
END:VEVENT
END:VCALENDAR
