BEGIN:VCALENDAR
BEGIN:VEVENT
CLASS:PUBLIC
CREATED:20260422T130035
DESCRIPTION:Your Voice Matters- Student Led IEPs
April 6, 2023 6:00 PM to 7:30 PM

Have you thought about getting involved in your education by attending your IEP meeting?

Imagine if you could help plan and write your IEP – if you could have a voice in creating your education goals and program.

Being a valued member of your IEP team doesn’t happen overnight. It takes some planning and effort on your part. But if you want to be involved, chances are your IEP team will welcome you with open arms – and listen to what you have to say.

This training will give you the information you need to lead your own IEP meeting.

This is a Connections California event. Connections California, a project of Parents Helping Parents – Silicon Valley, is made possible thanks to generous support from Santa Clara Family Health Plan.

Accommodations: If you need accommodations to participate in the training or need help registering over the phone, please contact us at 408.727.5775 Extension 184 or nicole@php.com as soon as possible. We generally need 10 days to arrange accommodations, and we want to ensure you are included!
DTEND:20230406T193000
DTSTAMP:20260422T130035
DTSTART:20230406T180000
LAST-MODIFIED:20091109T101015Z
LOCATION:(ONLINE), , , , 
SUMMARY;LANGUAGE=en-us:Connections California (in Partnership with PHP)
BEGIN:VALARM
TRIGGER:-PT1440M
ACTION:DISPLAY
DESCRIPTION:Reminder
END:VALARM
END:VEVENT
END:VCALENDAR
