BEGIN:VCALENDAR
BEGIN:VEVENT
CLASS:PUBLIC
CREATED:20260422T124636
DESCRIPTION:Does the IEP process seem overwhelming and confusing? Join us to learn about Special Education, the terminology that is used during meetings and in IEP documents, and tips to help you successfully navigate the special education system.

This workshop will be conducted in partnership with FaCT (Families and Communites Together) using Zoom. After registering, you will receive an invitation to join the Zoom meeting.
DTEND:20230427T200000
DTSTAMP:20260422T124636
DTSTART:20230427T180000
LAST-MODIFIED:20091109T101015Z
LOCATION:(ONLINE), , , , 
SUMMARY;LANGUAGE=en-us:Navigating Special Education WEBINAR (FaCT)
BEGIN:VALARM
TRIGGER:-PT1440M
ACTION:DISPLAY
DESCRIPTION:Reminder
END:VALARM
END:VEVENT
END:VCALENDAR
