BEGIN:VCALENDAR
BEGIN:VEVENT
CLASS:PUBLIC
CREATED:20260422T125655
DESCRIPTION:Únase a nosotros para aprender cómo su hijo puede aprender a abogar por sí mismo en el lugar de trabajo. Aprenderá sobre adaptaciones laborales, divulgación de la discapacidad y comprensión de la discapacidad. Este seminario web está dirigido a los padres y jóvenes de 14 años en adelante son bienvenidos.

Este taller con Parents Helping Parents (PHP) se llevará a cabo utilizando Zoom. Después de registrarse, recibirá una invitación para unirse a la reunión de Zoom.
DTEND:20230412T113000
DTSTAMP:20260422T125655
DTSTART:20230412T103000
LAST-MODIFIED:20091109T101015Z
LOCATION:(ONLINE), , , , 
SUMMARY;LANGUAGE=en-us:Las Discapacidades y la Defensa Individual en el Lugar de Trabajo WEBINAR (con PHP)
BEGIN:VALARM
TRIGGER:-PT1440M
ACTION:DISPLAY
DESCRIPTION:Reminder
END:VALARM
END:VEVENT
END:VCALENDAR
