BEGIN:VCALENDAR
BEGIN:VEVENT
CLASS:PUBLIC
CREATED:20260422T143752
DESCRIPTION:¿Se ha preguntado qué pueden hacer los padres para ayudar a planear la transición de su hijo de la escuela secundaria al empleo?

Únase a nosotros para conocer los recursos y la información que lo ayudarán a trabajar con su hijo para tomar decisiones sobre la planificación del empleo después de la escuela secundaria. Aprenda la importancia de participar en el desarrollo del Plan de transición individualizado (ITP), reunirse y trabajar con agencias para apoyar a su hijo en su preparación para el empleo y el trabajo.

Este taller con Parents Helping Parents (PHP) se llevará a cabo utilizando Zoom. Después de registrarse, recibirá una invitación para unirse a la reunión de Zoom.
DTEND:20230329T113000
DTSTAMP:20260422T143752
DTSTART:20230329T103000
LAST-MODIFIED:20091109T101015Z
LOCATION:(ONLINE), , , , 
SUMMARY;LANGUAGE=en-us:Trazando Sueños: Transición al Empleo WEBINAR (con PHP)
BEGIN:VALARM
TRIGGER:-PT1440M
ACTION:DISPLAY
DESCRIPTION:Reminder
END:VALARM
END:VEVENT
END:VCALENDAR
