BEGIN:VCALENDAR
BEGIN:VEVENT
CLASS:PUBLIC
CREATED:20260422T143752
DESCRIPTION:¿Se ha preguntado qué pueden hacer los padres para ayudar a planificar la transición de su hijo de la escuela secundaria a la educación superior?

Únase a nosotros para conocer los recursos y la información que lo ayudarán a trabajar con su hijo para tomar decisiones sobre la planificación de la educación superior después de la escuela secundaria. Aprenda la importancia de participar en la Planificación de Transición individualizada (ITP), reunirse y trabajar con escuelas y agencias comunitarias para ayudar a allanar el camino para la educación superior después de la escuela secundaria.

Este taller con Parents Helping Parents (PHP) se llevará a cabo utilizando Zoom. Después de registrarse, recibirá una invitación para unirse a la reunión de Zoom.
DTEND:20230315T113000
DTSTAMP:20260422T143752
DTSTART:20230315T103000
LAST-MODIFIED:20091109T101015Z
LOCATION:(ONLINE), , , , 
SUMMARY;LANGUAGE=en-us:Trazando Sueños: Transición a la Educación y Capacitación Postsecundaria WEBINAR (con PHP)
BEGIN:VALARM
TRIGGER:-PT1440M
ACTION:DISPLAY
DESCRIPTION:Reminder
END:VALARM
END:VEVENT
END:VCALENDAR
