BEGIN:VCALENDAR
BEGIN:VEVENT
CLASS:PUBLIC
CREATED:20260422T143521
DESCRIPTION:¿Se ha preguntado qué pueden hacer los padres para ayudar a planificar la transición de su hijo de la escuela secundaria a la vida adulta?

Únase a nosotros para conocer los recursos y la información que lo ayudarán a trabajar con su hijo para tomar decisiones sobre la planificación de la vida después de la escuela secundaria. Aprenda la importancia de participar en el desarrollo del Plan de transición individualizado (ITP), reunirse y trabajar con agencias para apoyar a su hijo en la transición a la edad adulta; y estrategias para ayudar a su hijo a vivir de forma independiente y convertirse en un defensor de sí mismo.

Este taller con Parents Helping Parents (PHP) se llevará a cabo utilizando Zoom. Después de registrarse, recibirá una invitación para unirse a la reunión de Zoom.
DTEND:20230301T113000
DTSTAMP:20260422T143521
DTSTART:20230301T103000
LAST-MODIFIED:20091109T101015Z
LOCATION:(ONLINE), , , , 
SUMMARY;LANGUAGE=en-us:Trazando Sueños: Transición a La Vida Adulta WEBINAR (con PHP) 
BEGIN:VALARM
TRIGGER:-PT1440M
ACTION:DISPLAY
DESCRIPTION:Reminder
END:VALARM
END:VEVENT
END:VCALENDAR
