BEGIN:VCALENDAR
BEGIN:VEVENT
CLASS:PUBLIC
CREATED:20260422T143514
DESCRIPTION:Este taller ofrece una descripción detallada de intervención temprana y de los servicios de transición a los tres años a las familias y los profesionales que trabajan con bebés y niños pequeños con discapacidades. También incluye información sobre garantías procesales y puntos y sugerencias para una transición exitosa.

Este taller se llevará a cabo utilizando Zoom. Después de registrarse, recibirá una invitación para unirse a la reunión de Zoom.
DTEND:20230302T120000
DTSTAMP:20260422T143514
DTSTART:20230302T103000
LAST-MODIFIED:20091109T101015Z
LOCATION:(ONLINE), , , , 
SUMMARY;LANGUAGE=en-us:Intervención Temprana WEBINAR
BEGIN:VALARM
TRIGGER:-PT1440M
ACTION:DISPLAY
DESCRIPTION:Reminder
END:VALARM
END:VEVENT
END:VCALENDAR
