BEGIN:VCALENDAR
BEGIN:VEVENT
CLASS:PUBLIC
CREATED:20260422T192245
DESCRIPTION:Join this group to get information about supporting someone living with childhood brain injury.

This session will include a supportive discussion about living with childhood brain injury (including but not limited to TBI, stroke, concussion), facilitated by Dr. Bethany Johnson-Kerner, MD, PhD.

Dr. Bethany is a child neurologist and program director of the Brain Recovery Education (BREd) project at UCSF. She will share information about medical supports (and shortcomings!) and would like to learn from parents as well as connect families to one another who are walking this path.

Upcoming meetings:

September 21: What is a TBI/concussion and what can I expect afterward?
October 12: Working with the school and your healthcare team
November 2: Support resources beyond the school and hospital

This pilot series is a partnership between TASK, PHP and UCSF.  
DTEND:20220921T203000
DTSTAMP:20260422T192245
DTSTART:20220921T193000
LAST-MODIFIED:20091109T101015Z
LOCATION:(ONLINE), , , , 
SUMMARY;LANGUAGE=en-us:Childhood Brain Injury, Parent Support and Information ONLINE SUPPORT GROUP 
BEGIN:VALARM
TRIGGER:-PT1440M
ACTION:DISPLAY
DESCRIPTION:Reminder
END:VALARM
END:VEVENT
END:VCALENDAR
