BEGIN:VCALENDAR
BEGIN:VEVENT
CLASS:PUBLIC
CREATED:20260422T204747
DESCRIPTION:Si eres un preadolescente, adolescente o adulto joven que está luchando con los desafíos de la vida, ¡este seminario web es para ti ! Unete a nosotros para conocer las preocupaciones que pudieras enfrentar relacionadas con la reapertura de escuelas, intimidación cibernetica y salud mental, así como estrategias y recursos para ayudarte a sobrellevar la situación. ¡Los padres son bienvenidos!

Se proporcionarán estrategias para ayudarles a ayudar a sus adolescentes.

Este taller se llevará a cabo utilizando Zoom. Después de registrarse, recibirá una invitación para unirse a la reunión de Zoom.
DTEND:20220628T110000
DTSTAMP:20260422T204747
DTSTART:20220628T090000
LAST-MODIFIED:20091109T101015Z
LOCATION:(ONLINE), , , , 
SUMMARY;LANGUAGE=en-us:Las voces de los jovenes importan: de regreso a la escuela en persona WEBINAR
BEGIN:VALARM
TRIGGER:-PT1440M
ACTION:DISPLAY
DESCRIPTION:Reminder
END:VALARM
END:VEVENT
END:VCALENDAR
