BEGIN:VCALENDAR
BEGIN:VEVENT
CLASS:PUBLIC
CREATED:20260422T174517
DESCRIPTION:Do the IFSP and IEP processes seem overwhelming and confusing? Join us to learn about Early Intervention and Special Education, the terminology that is used during meetings and in IFSP/IEP documents, and tips to help you successfully navigate each system. This workshop is geared toward parents of children from birth to age 6.

This workshop will be conducted in partnership with Families and Communities Together (FaCT) Orange County using Zoom. After registering, you will receive an invitation to join the Zoom meeting.
DTEND:20221117T200000
DTSTAMP:20260422T174517
DTSTART:20221117T180000
LAST-MODIFIED:20091109T101015Z
LOCATION:(ONLINE), , , , 
SUMMARY;LANGUAGE=en-us:Navigating Early Intervention and Special Education WEBINAR (FaCT Orange County)
BEGIN:VALARM
TRIGGER:-PT1440M
ACTION:DISPLAY
DESCRIPTION:Reminder
END:VALARM
END:VEVENT
END:VCALENDAR
