BEGIN:VCALENDAR
BEGIN:VEVENT
CLASS:PUBLIC
CREATED:20260422T191206
DESCRIPTION:Does the IEP process seem overwhelming and confusing? This workshop will help guide you through the process, introduce you to special education terminology, and provide you with tools to help you successfully navigate special education.

This workshop will be conducted in partnership with Families and Communities Together (FaCT) Orange County using Zoom. After registering, you will receive an invitation to join the Zoom meeting.
DTEND:20220920T183000
DTSTAMP:20260422T191206
DTSTART:20220920T163000
LAST-MODIFIED:20091109T101015Z
LOCATION:(ONLINE), , , , 
SUMMARY;LANGUAGE=en-us:Navigating IEPs WEBINAR (FaCT Orange County)
BEGIN:VALARM
TRIGGER:-PT1440M
ACTION:DISPLAY
DESCRIPTION:Reminder
END:VALARM
END:VEVENT
END:VCALENDAR
