BEGIN:VCALENDAR
BEGIN:VEVENT
CLASS:PUBLIC
CREATED:20260422T190946
DESCRIPTION:This webinar provides insight into the assessment process in terms of assessment referrals, assessment timelines, parental input, parental consent, student placement, and finally the appeals process.

This workshop will be conducted using Zoom. After registering, you will receive an invitation to join the Zoom meeting.
DTEND:20220817T110000
DTSTAMP:20260422T190946
DTSTART:20220817T090000
LAST-MODIFIED:20091109T101015Z
LOCATION:(Online), , , , 
SUMMARY;LANGUAGE=en-us:Assessment Process WEBINAR
BEGIN:VALARM
TRIGGER:-PT1440M
ACTION:DISPLAY
DESCRIPTION:Reminder
END:VALARM
END:VEVENT
END:VCALENDAR
