BEGIN:VCALENDAR
BEGIN:VEVENT
CLASS:PUBLIC
CREATED:20260422T210041
DESCRIPTION:AAC: Ask the Experts is the fourth workshop in the Let’s Talk AAC webinar series. This webinar will combine live and pre-programmed frequently asked questions answered by adult AAC users, our contracted Speech-Language Pathologist, and TASK assistive technology staff. Join us for an eye-opening event!

This workshop will be conducted using Zoom. After registering, you will receive an invitation to join the Zoom meeting.
DTEND:20220722T120000
DTSTAMP:20260422T210041
DTSTART:20220722T100000
LAST-MODIFIED:20091109T101015Z
LOCATION:(ONLINE), , , , 
SUMMARY;LANGUAGE=en-us:Let's Talk AAC: Ask the Experts WEBINAR
BEGIN:VALARM
TRIGGER:-PT1440M
ACTION:DISPLAY
DESCRIPTION:Reminder
END:VALARM
END:VEVENT
END:VCALENDAR
