BEGIN:VCALENDAR
BEGIN:VEVENT
CLASS:PUBLIC
CREATED:20260422T204644
DESCRIPTION:IFSP 및 IEP 과정이 부담스럽고 혼란스러워 보입니까? 조기 개입 및 특수 교육, 회의 및 IFSP / IEP 문서에서 사용되는 용어, 각 시스템을 성공적으로 색하는 데 도움이 되는 팁에 대해 알아 보는 시간 저희와 함께 하십시오

이 워크샵은 줌으로 진행 될 것입니다. 등록후에, 줌 미팅 참여 할 수 있 초대 장을 받으실 것 입니다.
DTEND:20220613T200000
DTSTAMP:20260422T204644
DTSTART:20220613T180000
LAST-MODIFIED:20091109T101015Z
LOCATION:(ONLINE), , , , 
SUMMARY;LANGUAGE=en-us:조기 개입 및 특수 교육 탐색 WEBINAR
BEGIN:VALARM
TRIGGER:-PT1440M
ACTION:DISPLAY
DESCRIPTION:Reminder
END:VALARM
END:VEVENT
END:VCALENDAR
