BEGIN:VCALENDAR
BEGIN:VEVENT
CLASS:PUBLIC
CREATED:20260422T221848
DESCRIPTION:¿Se ha preguntado qué pueden hacer los padres para ayudar a planificar la transición de su hijo de la escuela secundaria a la vida adulta? Únase a nosotros para conocer los recursos y la información que lo ayudarán a comprender y participar en el desarrollo del Plan de transición individual, trabajar con escuelas y agencias para apoyar a su hijo en la transición a la edad adulta; y estrategias para ayudar a su hijo a vivir de forma independiente y convertirse en un defensor de sí mismo.

Este taller con FERIA se llevará a cabo utilizando Zoom. Después de registrarse, recibirá una invitación para unirse a la reunión de Zoom.
DTEND:20220420T200000
DTSTAMP:20260422T221848
DTSTART:20220420T180000
LAST-MODIFIED:20091109T101015Z
LOCATION:(ONLINE), , , , 
SUMMARY;LANGUAGE=en-us:Transicion a la Vida Postsecundaria WEBINAR (con FERIA)
BEGIN:VALARM
TRIGGER:-PT1440M
ACTION:DISPLAY
DESCRIPTION:Reminder
END:VALARM
END:VEVENT
END:VCALENDAR
