BEGIN:VCALENDAR
BEGIN:VEVENT
CLASS:PUBLIC
CREATED:20260422T221615
DESCRIPTION:This webinar provides insight into the assessment process in terms of assessment referrals, assessment timelines, parental input, parental consent, student placement and finally the appeals process.

This workshop will be conducted in partnership with FaCT (Families and Communities Together) using Zoom. After registering, you will receive an invitation to join the Zoom meeting.
DTEND:20220510T110000
DTSTAMP:20260422T221615
DTSTART:20220510T090000
LAST-MODIFIED:20091109T101015Z
LOCATION:(ONLINE), , , , 
SUMMARY;LANGUAGE=en-us:Assessment Process WEBINAR (with FaCT)
BEGIN:VALARM
TRIGGER:-PT1440M
ACTION:DISPLAY
DESCRIPTION:Reminder
END:VALARM
END:VEVENT
END:VCALENDAR
